BEGIN:VCALENDAR
VERSION:2.0
PRODID:-//Inman Mills Baptist Church - ECPv4.9.3.1//NONSGML v1.0//EN
CALSCALE:GREGORIAN
METHOD:PUBLISH
X-WR-CALNAME:Inman Mills Baptist Church
X-ORIGINAL-URL:http://inmanmillsbaptist.com
X-WR-CALDESC:Events for Inman Mills Baptist Church
BEGIN:VEVENT
DTSTART;TZID=America/New_York:20150116T080000
DTEND;TZID=America/New_York:20150116T170000
DTSTAMP:20260422T103453
CREATED:20150116T183923Z
LAST-MODIFIED:20150116T183923Z
UID:945-1421395200-1421427600@inmanmillsbaptist.com
SUMMARY:15th Anniversary
DESCRIPTION:On Sunday\, January 25\, we will honor Rev. & Mrs. Jack Hames as we celebrate their 15th anniversary of service to our church. We look forward to this special day! \n
URL:http://inmanmillsbaptist.com/event/15th-anniversary/
END:VEVENT
END:VCALENDAR