BEGIN:VCALENDAR
VERSION:2.0
PRODID:-//Inman Mills Baptist Church - ECPv4.9.3.1//NONSGML v1.0//EN
CALSCALE:GREGORIAN
METHOD:PUBLISH
X-WR-CALNAME:Inman Mills Baptist Church
X-ORIGINAL-URL:http://inmanmillsbaptist.com
X-WR-CALDESC:Events for Inman Mills Baptist Church
BEGIN:VEVENT
DTSTART;VALUE=DATE:20160207
DTEND;VALUE=DATE:20160208
DTSTAMP:20260419T130436
CREATED:20160205T151116Z
LAST-MODIFIED:20160205T151116Z
UID:1569-1454803200-1454889599@inmanmillsbaptist.com
SUMMARY:Baptist Men's Day
DESCRIPTION:Join us for this special service at 11:00 am. We look forward to this special day! \n
URL:http://inmanmillsbaptist.com/event/baptist-mens-day/
CATEGORIES:Events
END:VEVENT
END:VCALENDAR