BEGIN:VCALENDAR
VERSION:2.0
PRODID:-//Inman Mills Baptist Church - ECPv4.9.3.1//NONSGML v1.0//EN
CALSCALE:GREGORIAN
METHOD:PUBLISH
X-WR-CALNAME:Inman Mills Baptist Church
X-ORIGINAL-URL:http://inmanmillsbaptist.com
X-WR-CALDESC:Events for Inman Mills Baptist Church
BEGIN:VEVENT
DTSTART;TZID=America/New_York:20150912T073000
DTEND;TZID=America/New_York:20150912T093000
DTSTAMP:20260419T194451
CREATED:20150821T184045Z
LAST-MODIFIED:20150821T184045Z
UID:1319-1442043000-1442050200@inmanmillsbaptist.com
SUMMARY:Best Breakfast Buffet In Town
DESCRIPTION:Plan to join us in our fellowship hall for the “Best Breakfast Buffet in Town” from 7:30 am until 9:30 am. Cost is $9.00 each and $4.00 each for children 8 years old and under. All of your favorites will be served by our WMU Georgia Belles. \n
URL:http://inmanmillsbaptist.com/event/best-breakfast-buffet-in-town/
CATEGORIES:Events
END:VEVENT
END:VCALENDAR