BEGIN:VCALENDAR
VERSION:2.0
PRODID:-//Inman Mills Baptist Church - ECPv4.9.3.1//NONSGML v1.0//EN
CALSCALE:GREGORIAN
METHOD:PUBLISH
X-WR-CALNAME:Inman Mills Baptist Church
X-ORIGINAL-URL:http://inmanmillsbaptist.com
X-WR-CALDESC:Events for Inman Mills Baptist Church
BEGIN:VEVENT
DTSTART;TZID=America/New_York:20151216T184500
DTEND;TZID=America/New_York:20151216T193000
DTSTAMP:20260420T010416
CREATED:20151204T183023Z
LAST-MODIFIED:20151204T183109Z
UID:1457-1450291500-1450294200@inmanmillsbaptist.com
SUMMARY:Birthday Party for Jesus
DESCRIPTION:Birthday Party for Jesus for all children in fellowship hall. \n
URL:http://inmanmillsbaptist.com/event/birthday-party-for-jesus-2/
CATEGORIES:Events
END:VEVENT
END:VCALENDAR