BEGIN:VCALENDAR
VERSION:2.0
PRODID:-//Inman Mills Baptist Church - ECPv4.9.3.1//NONSGML v1.0//EN
CALSCALE:GREGORIAN
METHOD:PUBLISH
X-WR-CALNAME:Inman Mills Baptist Church
X-ORIGINAL-URL:http://inmanmillsbaptist.com
X-WR-CALDESC:Events for Inman Mills Baptist Church
BEGIN:VEVENT
DTSTART;VALUE=DATE:20160110
DTEND;VALUE=DATE:20160111
DTSTAMP:20260419T161629
CREATED:20151231T175407Z
LAST-MODIFIED:20151231T175407Z
UID:1511-1452384000-1452470399@inmanmillsbaptist.com
SUMMARY:Brotherhood Breakfast
DESCRIPTION:All men are invited to our Men’s Prayer Breakfast at 7:30 am in the fellowship hall. \n
URL:http://inmanmillsbaptist.com/event/brotherhood-breakfast-2/
CATEGORIES:Events
END:VEVENT
END:VCALENDAR