BEGIN:VCALENDAR
VERSION:2.0
PRODID:-//Inman Mills Baptist Church - ECPv4.9.3.1//NONSGML v1.0//EN
CALSCALE:GREGORIAN
METHOD:PUBLISH
X-WR-CALNAME:Inman Mills Baptist Church
X-ORIGINAL-URL:http://inmanmillsbaptist.com
X-WR-CALDESC:Events for Inman Mills Baptist Church
BEGIN:VEVENT
DTSTART;TZID=America/New_York:20141217T184500
DTEND;TZID=America/New_York:20141217T193000
DTSTAMP:20260422T002620
CREATED:20141121T221217Z
LAST-MODIFIED:20141121T221217Z
UID:799-1418841900-1418844600@inmanmillsbaptist.com
SUMMARY:Candles\, Carols and Scripture Service 
DESCRIPTION:
URL:http://inmanmillsbaptist.com/event/candles-carols-and-scripture-service/
END:VEVENT
END:VCALENDAR