BEGIN:VCALENDAR
VERSION:2.0
PRODID:-//Inman Mills Baptist Church - ECPv4.9.3.1//NONSGML v1.0//EN
CALSCALE:GREGORIAN
METHOD:PUBLISH
X-WR-CALNAME:Inman Mills Baptist Church
X-ORIGINAL-URL:http://inmanmillsbaptist.com
X-WR-CALDESC:Events for Inman Mills Baptist Church
BEGIN:VEVENT
DTSTART;TZID=America/New_York:20151216T184500
DTEND;TZID=America/New_York:20151216T193000
DTSTAMP:20260419T231835
CREATED:20151204T182535Z
LAST-MODIFIED:20151204T184012Z
UID:1456-1450291500-1450294200@inmanmillsbaptist.com
SUMMARY:Candles\, Carols & Scripture
DESCRIPTION:Service in the Chapel \n
URL:http://inmanmillsbaptist.com/event/candles-carols-scripture/
CATEGORIES:Events
END:VEVENT
END:VCALENDAR