BEGIN:VCALENDAR
VERSION:2.0
PRODID:-//Inman Mills Baptist Church - ECPv4.9.3.1//NONSGML v1.0//EN
CALSCALE:GREGORIAN
METHOD:PUBLISH
X-WR-CALNAME:Inman Mills Baptist Church
X-ORIGINAL-URL:http://inmanmillsbaptist.com
X-WR-CALDESC:Events for Inman Mills Baptist Church
BEGIN:VEVENT
DTSTART;VALUE=DATE:20150926
DTEND;VALUE=DATE:20150927
DTSTAMP:20260419T213215
CREATED:20150819T160511Z
LAST-MODIFIED:20150819T160511Z
UID:1308-1443225600-1443311999@inmanmillsbaptist.com
SUMMARY:Carowinds Christian Music Day
DESCRIPTION:Our Youth for Jesus (Y 4 J) will be going to Carowinds on Saturday\, September 26 for Christian Music Day.  We will leave the church at 8:30 am. \n
URL:http://inmanmillsbaptist.com/event/carowinds-christian-music-day/
CATEGORIES:Events
END:VEVENT
END:VCALENDAR