BEGIN:VCALENDAR
VERSION:2.0
PRODID:-//Inman Mills Baptist Church - ECPv4.9.3.1//NONSGML v1.0//EN
CALSCALE:GREGORIAN
METHOD:PUBLISH
X-WR-CALNAME:Inman Mills Baptist Church
X-ORIGINAL-URL:http://inmanmillsbaptist.com
X-WR-CALDESC:Events for Inman Mills Baptist Church
BEGIN:VEVENT
DTSTART;TZID=America/New_York:20141214T180000
DTEND;TZID=America/New_York:20141214T190000
DTSTAMP:20260422T020023
CREATED:20141203T162246Z
LAST-MODIFIED:20141213T001456Z
UID:819-1418580000-1418583600@inmanmillsbaptist.com
SUMMARY:Children's Christmas Program
DESCRIPTION:“A Majestic Night”. Following the program\, we will enjoy milk and cookies in the fellowship hall. \n
URL:http://inmanmillsbaptist.com/event/childrens-christmas-program-2/
CATEGORIES:Events
END:VEVENT
END:VCALENDAR