BEGIN:VCALENDAR
VERSION:2.0
PRODID:-//Inman Mills Baptist Church - ECPv4.9.3.1//NONSGML v1.0//EN
CALSCALE:GREGORIAN
METHOD:PUBLISH
X-WR-CALNAME:Inman Mills Baptist Church
X-ORIGINAL-URL:http://inmanmillsbaptist.com
X-WR-CALDESC:Events for Inman Mills Baptist Church
BEGIN:VEVENT
DTSTART;TZID=America/New_York:20141221T110000
DTEND;TZID=America/New_York:20141221T120000
DTSTAMP:20260422T002603
CREATED:20141203T162704Z
LAST-MODIFIED:20141203T162704Z
UID:822-1419159600-1419163200@inmanmillsbaptist.com
SUMMARY:Choir Cantata
DESCRIPTION:The adult choir presents “The First Noel” \n
URL:http://inmanmillsbaptist.com/event/choir-cantata/
CATEGORIES:Events
END:VEVENT
END:VCALENDAR