BEGIN:VCALENDAR
VERSION:2.0
PRODID:-//Inman Mills Baptist Church - ECPv4.9.3.1//NONSGML v1.0//EN
CALSCALE:GREGORIAN
METHOD:PUBLISH
X-WR-CALNAME:Inman Mills Baptist Church
X-ORIGINAL-URL:http://inmanmillsbaptist.com
X-WR-CALDESC:Events for Inman Mills Baptist Church
BEGIN:VEVENT
DTSTART;TZID=America/New_York:20140618T193000
DTEND;TZID=America/New_York:20140618T203000
DTSTAMP:20260422T093432
CREATED:20140618T201834Z
LAST-MODIFIED:20140618T201834Z
UID:535-1403119800-1403123400@inmanmillsbaptist.com
SUMMARY:Choir Tour
DESCRIPTION:ASHLAN VILLAGE \n
URL:http://inmanmillsbaptist.com/event/choir-tour-2/
CATEGORIES:Events
END:VEVENT
END:VCALENDAR