BEGIN:VCALENDAR
VERSION:2.0
PRODID:-//Inman Mills Baptist Church - ECPv4.9.3.1//NONSGML v1.0//EN
CALSCALE:GREGORIAN
METHOD:PUBLISH
X-WR-CALNAME:Inman Mills Baptist Church
X-ORIGINAL-URL:http://inmanmillsbaptist.com
X-WR-CALDESC:Events for Inman Mills Baptist Church
BEGIN:VEVENT
DTSTART;VALUE=DATE:20151213
DTEND;VALUE=DATE:20151214
DTSTAMP:20260420T003238
CREATED:20151204T181604Z
LAST-MODIFIED:20151204T182746Z
UID:1452-1449964800-1450051199@inmanmillsbaptist.com
SUMMARY:Christmas Angels Deadline
DESCRIPTION:Please remember if you adopted a Christmas Angel\, all gifts need to be labeled with the child’s name and placed in the parlor no later than December 13.  Thanks! \n
URL:http://inmanmillsbaptist.com/event/christmas-angels-deadline/
CATEGORIES:Events
END:VEVENT
END:VCALENDAR