BEGIN:VCALENDAR
VERSION:2.0
PRODID:-//Inman Mills Baptist Church - ECPv4.9.3.1//NONSGML v1.0//EN
CALSCALE:GREGORIAN
METHOD:PUBLISH
X-WR-CALNAME:Inman Mills Baptist Church
X-ORIGINAL-URL:http://inmanmillsbaptist.com
X-WR-CALDESC:Events for Inman Mills Baptist Church
BEGIN:VEVENT
DTSTART;VALUE=DATE:20160101
DTEND;VALUE=DATE:20160102
DTSTAMP:20260419T212836
CREATED:20151219T212835Z
LAST-MODIFIED:20151219T212835Z
UID:1477-1451606400-1451692799@inmanmillsbaptist.com
SUMMARY:Church Office Closed
DESCRIPTION:
URL:http://inmanmillsbaptist.com/event/church-office-closed-5/
CATEGORIES:Events
END:VEVENT
END:VCALENDAR