BEGIN:VCALENDAR
VERSION:2.0
PRODID:-//Inman Mills Baptist Church - ECPv4.9.3.1//NONSGML v1.0//EN
CALSCALE:GREGORIAN
METHOD:PUBLISH
X-WR-CALNAME:Inman Mills Baptist Church
X-ORIGINAL-URL:http://inmanmillsbaptist.com
X-WR-CALDESC:Events for Inman Mills Baptist Church
BEGIN:VEVENT
DTSTART;TZID=America/New_York:20150116T080000
DTEND;TZID=America/New_York:20150116T170000
DTSTAMP:20260421T224453
CREATED:20150116T180922Z
LAST-MODIFIED:20150116T180922Z
UID:940-1421395200-1421427600@inmanmillsbaptist.com
SUMMARY:Church Wide Singspiration
DESCRIPTION:Winter weather got you feeling blue? Here’s something that will help! Next Sunday\, January 25\, at 6:00 pm\, we will have a church wide song service. This is an opportunity for our own church folks to sing or play an instrument for us. If you sing a solo\, duet or with a group\, it’s time to get your song together. Please let Travis know today that you will participate. \n
URL:http://inmanmillsbaptist.com/event/church-wide-singspiration/
END:VEVENT
END:VCALENDAR