BEGIN:VCALENDAR
VERSION:2.0
PRODID:-//Inman Mills Baptist Church - ECPv4.9.3.1//NONSGML v1.0//EN
CALSCALE:GREGORIAN
METHOD:PUBLISH
X-WR-CALNAME:Inman Mills Baptist Church
X-ORIGINAL-URL:http://inmanmillsbaptist.com
X-WR-CALDESC:Events for Inman Mills Baptist Church
BEGIN:VEVENT
DTSTART;TZID=America/New_York:20141121T170000
DTEND;TZID=America/New_York:20141121T190000
DTSTAMP:20260422T020531
CREATED:20141121T221504Z
LAST-MODIFIED:20141121T221504Z
UID:801-1416589200-1416596400@inmanmillsbaptist.com
SUMMARY:Churchwide Christmas Caroling
DESCRIPTION:Caroling followed by Soup Supper \n
URL:http://inmanmillsbaptist.com/event/churchwide-christmas-caroling/
END:VEVENT
END:VCALENDAR