BEGIN:VCALENDAR
VERSION:2.0
PRODID:-//Inman Mills Baptist Church - ECPv4.9.3.1//NONSGML v1.0//EN
CALSCALE:GREGORIAN
METHOD:PUBLISH
X-WR-CALNAME:Inman Mills Baptist Church
X-ORIGINAL-URL:http://inmanmillsbaptist.com
X-WR-CALDESC:Events for Inman Mills Baptist Church
BEGIN:VEVENT
DTSTART;TZID=America/New_York:20141210T184500
DTEND;TZID=America/New_York:20141210T193000
DTSTAMP:20260422T002741
CREATED:20141203T163834Z
LAST-MODIFIED:20141203T163834Z
UID:828-1418237100-1418239800@inmanmillsbaptist.com
SUMMARY:Guest Choir from White Oak
DESCRIPTION:We will meet in the Sanctuary for this special presentation. \n
URL:http://inmanmillsbaptist.com/event/guest-choir-from-white-oak/
CATEGORIES:Events
END:VEVENT
END:VCALENDAR