BEGIN:VCALENDAR
VERSION:2.0
PRODID:-//Inman Mills Baptist Church - ECPv4.9.3.1//NONSGML v1.0//EN
CALSCALE:GREGORIAN
METHOD:PUBLISH
X-WR-CALNAME:Inman Mills Baptist Church
X-ORIGINAL-URL:http://inmanmillsbaptist.com
X-WR-CALDESC:Events for Inman Mills Baptist Church
BEGIN:VEVENT
DTSTART;TZID=America/New_York:20150116T080000
DTEND;TZID=America/New_York:20150116T170000
DTSTAMP:20260421T225058
CREATED:20150116T180402Z
LAST-MODIFIED:20150116T180402Z
UID:938-1421395200-1421427600@inmanmillsbaptist.com
SUMMARY:January 18 Sermon Topic
DESCRIPTION:Sunday morning will be Baptist Men’s Day. We look forward to this special service. The sermon topic for Sunday evening is “Dealing with Temptation” – Matthew 26:41; Romans 12:21. \n
URL:http://inmanmillsbaptist.com/event/january-18-sermon-topic/
END:VEVENT
END:VCALENDAR