BEGIN:VCALENDAR
VERSION:2.0
PRODID:-//Inman Mills Baptist Church - ECPv4.9.3.1//NONSGML v1.0//EN
CALSCALE:GREGORIAN
METHOD:PUBLISH
X-WR-CALNAME:Inman Mills Baptist Church
X-ORIGINAL-URL:http://inmanmillsbaptist.com
X-WR-CALDESC:Events for Inman Mills Baptist Church
BEGIN:VEVENT
DTSTART;TZID=America/New_York:20141207T180000
DTEND;TZID=America/New_York:20141207T200000
DTSTAMP:20260422T002652
CREATED:20141121T220952Z
LAST-MODIFIED:20141121T220952Z
UID:797-1417975200-1417982400@inmanmillsbaptist.com
SUMMARY:Living Nativity
DESCRIPTION:
URL:http://inmanmillsbaptist.com/event/living-nativity/
END:VEVENT
END:VCALENDAR