BEGIN:VCALENDAR
VERSION:2.0
PRODID:-//Inman Mills Baptist Church - ECPv4.9.3.1//NONSGML v1.0//EN
CALSCALE:GREGORIAN
METHOD:PUBLISH
X-WR-CALNAME:Inman Mills Baptist Church
X-ORIGINAL-URL:http://inmanmillsbaptist.com
X-WR-CALDESC:Events for Inman Mills Baptist Church
BEGIN:VEVENT
DTSTART;TZID=America/New_York:20160103T180000
DTEND;TZID=America/New_York:20160103T190000
DTSTAMP:20260419T195312
CREATED:20151223T172010Z
LAST-MODIFIED:20151223T172010Z
UID:1484-1451844000-1451847600@inmanmillsbaptist.com
SUMMARY:Lord's Supper Observance
DESCRIPTION:We will observe the Lord’s Supper during our evening worship at 6 pm. \n
URL:http://inmanmillsbaptist.com/event/lords-supper-observance/
CATEGORIES:Events
END:VEVENT
END:VCALENDAR