BEGIN:VCALENDAR
VERSION:2.0
PRODID:-//Inman Mills Baptist Church - ECPv4.9.3.1//NONSGML v1.0//EN
CALSCALE:GREGORIAN
METHOD:PUBLISH
X-WR-CALNAME:Inman Mills Baptist Church
X-ORIGINAL-URL:http://inmanmillsbaptist.com
X-WR-CALDESC:Events for Inman Mills Baptist Church
BEGIN:VEVENT
DTSTART;VALUE=DATE:20151206
DTEND;VALUE=DATE:20151207
DTSTAMP:20260419T213057
CREATED:20151204T184301Z
LAST-MODIFIED:20151204T184558Z
UID:1464-1449360000-1449446399@inmanmillsbaptist.com
SUMMARY:Lottie Moon Mission March
DESCRIPTION:During the morning worship service\, you are invited to place your Lottie Moon Christmas Offering in the manger in the front of the church. We’re excited about reaching our goal of $8\,000.00 and even going beyond!  To date\, we have received $2\,355.00. \n
URL:http://inmanmillsbaptist.com/event/lottie-moon-mission-march/
CATEGORIES:Events
END:VEVENT
END:VCALENDAR