BEGIN:VCALENDAR
VERSION:2.0
PRODID:-//Inman Mills Baptist Church - ECPv4.9.3.1//NONSGML v1.0//EN
CALSCALE:GREGORIAN
METHOD:PUBLISH
X-WR-CALNAME:Inman Mills Baptist Church
X-ORIGINAL-URL:http://inmanmillsbaptist.com
X-WR-CALDESC:Events for Inman Mills Baptist Church
BEGIN:VEVENT
DTSTART;TZID=America/New_York:20150515T080000
DTEND;TZID=America/New_York:20150515T170000
DTSTAMP:20260420T024407
CREATED:20150515T171900Z
LAST-MODIFIED:20150515T171900Z
UID:1161-1431676800-1431709200@inmanmillsbaptist.com
SUMMARY:May 17th Sermon Topics
DESCRIPTION:The sermon topics for Sunday AM are “Getting Your Feet on the Rock” – Psalm 73:2-3 and Sunday PM is “He Built The Church” – Matthew 16:13-19. \n
URL:http://inmanmillsbaptist.com/event/may-17th-sermon-topics/
END:VEVENT
END:VCALENDAR