BEGIN:VCALENDAR
VERSION:2.0
PRODID:-//Inman Mills Baptist Church - ECPv4.9.3.1//NONSGML v1.0//EN
CALSCALE:GREGORIAN
METHOD:PUBLISH
X-WR-CALNAME:Inman Mills Baptist Church
X-ORIGINAL-URL:http://inmanmillsbaptist.com
X-WR-CALDESC:Events for Inman Mills Baptist Church
BEGIN:VEVENT
DTSTART;TZID=America/New_York:20150529T080000
DTEND;TZID=America/New_York:20150529T170000
DTSTAMP:20260419T230052
CREATED:20150529T201645Z
LAST-MODIFIED:20150829T220346Z
UID:1168-1432886400-1432918800@inmanmillsbaptist.com
SUMMARY:May 31st\, 2015 Sermon Topic
DESCRIPTION:The AM sermon topic is “Dying As We Live” – Amos 4:11-13 and the PM topic is “God’s Royalty” – 1 Peter 2:5-9; Revelation 5:10. \n
URL:http://inmanmillsbaptist.com/event/may-31st-2015-sermon-topice/
END:VEVENT
END:VCALENDAR