BEGIN:VCALENDAR
VERSION:2.0
PRODID:-//Inman Mills Baptist Church - ECPv4.9.3.1//NONSGML v1.0//EN
CALSCALE:GREGORIAN
METHOD:PUBLISH
X-WR-CALNAME:Inman Mills Baptist Church
X-ORIGINAL-URL:http://inmanmillsbaptist.com
X-WR-CALDESC:Events for Inman Mills Baptist Church
BEGIN:VEVENT
DTSTART;TZID=America/New_York:20150504T170000
DTEND;TZID=America/New_York:20150504T200000
DTSTAMP:20260420T054409
CREATED:20150501T213257Z
LAST-MODIFIED:20150501T213426Z
UID:1148-1430758800-1430769600@inmanmillsbaptist.com
SUMMARY:Mission Team Fundraiser
DESCRIPTION:Chic-Fil-A Boiling Springs \n  \n
URL:http://inmanmillsbaptist.com/event/mission-team-fundraiser/
END:VEVENT
END:VCALENDAR