BEGIN:VCALENDAR
VERSION:2.0
PRODID:-//Inman Mills Baptist Church - ECPv4.9.3.1//NONSGML v1.0//EN
CALSCALE:GREGORIAN
METHOD:PUBLISH
X-WR-CALNAME:Inman Mills Baptist Church
X-ORIGINAL-URL:http://inmanmillsbaptist.com
X-WR-CALDESC:Events for Inman Mills Baptist Church
BEGIN:VEVENT
DTSTART;TZID=America/New_York:20150104T120000
DTEND;TZID=America/New_York:20150104T130000
DTSTAMP:20260421T223539
CREATED:20141226T164555Z
LAST-MODIFIED:20141226T164720Z
UID:906-1420372800-1420376400@inmanmillsbaptist.com
SUMMARY:Nicaragua Mission Trip Meeting
DESCRIPTION:Fundraising meeting in the chapel immediately following the morning worship service. Please plan to attend. \n  \n
URL:http://inmanmillsbaptist.com/event/mission-trip-meeting/
CATEGORIES:Events
END:VEVENT
END:VCALENDAR