BEGIN:VCALENDAR
VERSION:2.0
PRODID:-//Inman Mills Baptist Church - ECPv4.9.3.1//NONSGML v1.0//EN
CALSCALE:GREGORIAN
METHOD:PUBLISH
X-WR-CALNAME:Inman Mills Baptist Church
X-ORIGINAL-URL:http://inmanmillsbaptist.com
X-WR-CALDESC:Events for Inman Mills Baptist Church
BEGIN:VEVENT
DTSTART;TZID=America/New_York:20150502T070000
DTEND;TZID=America/New_York:20150502T130000
DTSTAMP:20260420T073946
CREATED:20150501T213136Z
LAST-MODIFIED:20150501T213136Z
UID:1147-1430550000-1430571600@inmanmillsbaptist.com
SUMMARY:Misson Team Yard Sale
DESCRIPTION:
URL:http://inmanmillsbaptist.com/event/misson-team-yard-sale/
END:VEVENT
END:VCALENDAR