BEGIN:VCALENDAR
VERSION:2.0
PRODID:-//Inman Mills Baptist Church - ECPv4.9.3.1//NONSGML v1.0//EN
CALSCALE:GREGORIAN
METHOD:PUBLISH
X-WR-CALNAME:Inman Mills Baptist Church
X-ORIGINAL-URL:http://inmanmillsbaptist.com
X-WR-CALDESC:Events for Inman Mills Baptist Church
BEGIN:VEVENT
DTSTART;VALUE=DATE:20160123
DTEND;VALUE=DATE:20160124
DTSTAMP:20260419T143221
CREATED:20151231T175230Z
LAST-MODIFIED:20151231T175230Z
UID:1510-1453507200-1453593599@inmanmillsbaptist.com
SUMMARY:Nicaragua Fundraiser
DESCRIPTION:Save the date for a Soup Supper Fundraiser to support the Nicaragua Mission Team in the fellowship hall. \n
URL:http://inmanmillsbaptist.com/event/nicaragua-fundraiser-2/
CATEGORIES:Events
END:VEVENT
END:VCALENDAR