BEGIN:VCALENDAR
VERSION:2.0
PRODID:-//Inman Mills Baptist Church - ECPv4.9.3.1//NONSGML v1.0//EN
CALSCALE:GREGORIAN
METHOD:PUBLISH
X-WR-CALNAME:Inman Mills Baptist Church
X-ORIGINAL-URL:http://inmanmillsbaptist.com
X-WR-CALDESC:Events for Inman Mills Baptist Church
BEGIN:VEVENT
DTSTART;TZID=America/New_York:20140629T180000
DTEND;TZID=America/New_York:20140629T190000
DTSTAMP:20260422T081403
CREATED:20140627T170007Z
LAST-MODIFIED:20140627T170332Z
UID:552-1404064800-1404068400@inmanmillsbaptist.com
SUMMARY:No Evening Service
DESCRIPTION:We will not have a service this evening. \n
URL:http://inmanmillsbaptist.com/event/no-evening-service/
CATEGORIES:Events
END:VEVENT
END:VCALENDAR