BEGIN:VCALENDAR
VERSION:2.0
PRODID:-//Inman Mills Baptist Church - ECPv4.9.3.1//NONSGML v1.0//EN
CALSCALE:GREGORIAN
METHOD:PUBLISH
X-WR-CALNAME:Inman Mills Baptist Church
X-ORIGINAL-URL:http://inmanmillsbaptist.com
X-WR-CALDESC:Events for Inman Mills Baptist Church
BEGIN:VEVENT
DTSTART;VALUE=DATE:20160104
DTEND;VALUE=DATE:20160105
DTSTAMP:20260419T175709
CREATED:20151223T172656Z
LAST-MODIFIED:20151223T172656Z
UID:1487-1451865600-1451951999@inmanmillsbaptist.com
SUMMARY:No Meeting - WMU 
DESCRIPTION:Please note the WMU Georgia Belles will not have their meeting for January. \n
URL:http://inmanmillsbaptist.com/event/no-meeting-wmu-2/
CATEGORIES:Events
END:VEVENT
END:VCALENDAR