BEGIN:VCALENDAR
VERSION:2.0
PRODID:-//Inman Mills Baptist Church - ECPv4.9.3.1//NONSGML v1.0//EN
CALSCALE:GREGORIAN
METHOD:PUBLISH
X-WR-CALNAME:Inman Mills Baptist Church
X-ORIGINAL-URL:http://inmanmillsbaptist.com
X-WR-CALDESC:Events for Inman Mills Baptist Church
BEGIN:VEVENT
DTSTART;TZID=America/New_York:20140702T184500
DTEND;TZID=America/New_York:20140702T193000
DTSTAMP:20260422T081229
CREATED:20140627T170110Z
LAST-MODIFIED:20140627T170945Z
UID:553-1404326700-1404329400@inmanmillsbaptist.com
SUMMARY:No Mid-Week Service
DESCRIPTION:Please note that we will not have a service this evening. \n  \n
URL:http://inmanmillsbaptist.com/event/no-mid-week-service/
CATEGORIES:Events
END:VEVENT
END:VCALENDAR