BEGIN:VCALENDAR
VERSION:2.0
PRODID:-//Inman Mills Baptist Church - ECPv4.9.3.1//NONSGML v1.0//EN
CALSCALE:GREGORIAN
METHOD:PUBLISH
X-WR-CALNAME:Inman Mills Baptist Church
X-ORIGINAL-URL:http://inmanmillsbaptist.com
X-WR-CALDESC:Events for Inman Mills Baptist Church
BEGIN:VEVENT
DTSTART;TZID=America/New_York:20140320T190000
DTEND;TZID=America/New_York:20140320T190000
DTSTAMP:20260422T122519
CREATED:20140315T114544Z
LAST-MODIFIED:20140315T114544Z
UID:287-1395342000-1395342000@inmanmillsbaptist.com
SUMMARY:Ohio Mission Trip
DESCRIPTION:A meeting will be held at the Associational Office on Thurs\, March 20\, at 7:00 pm to discuss the trip to Ohio. The dates are June 7 – 12. Plan to attend for more info. \n
URL:http://inmanmillsbaptist.com/event/ohio-mission-trip/
CATEGORIES:Events
END:VEVENT
END:VCALENDAR