BEGIN:VCALENDAR
VERSION:2.0
PRODID:-//Inman Mills Baptist Church - ECPv4.9.3.1//NONSGML v1.0//EN
CALSCALE:GREGORIAN
METHOD:PUBLISH
X-WR-CALNAME:Inman Mills Baptist Church
X-ORIGINAL-URL:http://inmanmillsbaptist.com
X-WR-CALDESC:Events for Inman Mills Baptist Church
BEGIN:VEVENT
DTSTART;TZID=America/New_York:20150522T080000
DTEND;TZID=America/New_York:20150522T170000
DTSTAMP:20260420T024300
CREATED:20150522T200945Z
LAST-MODIFIED:20150522T200945Z
UID:1165-1432281600-1432314000@inmanmillsbaptist.com
SUMMARY:Prison Ministry
DESCRIPTION:The prison ministry team will have their next visit to the prison on Friday\, May 29\, at 6:45 pm. We will meet for a time of prayer on Tuesday\, May 26\, at 7:00 pm. Please pray as the team ministers to these men. \n
URL:http://inmanmillsbaptist.com/event/prison-ministry/
END:VEVENT
END:VCALENDAR