BEGIN:VCALENDAR
VERSION:2.0
PRODID:-//Inman Mills Baptist Church - ECPv4.9.3.1//NONSGML v1.0//EN
CALSCALE:GREGORIAN
METHOD:PUBLISH
X-WR-CALNAME:Inman Mills Baptist Church
X-ORIGINAL-URL:http://inmanmillsbaptist.com
X-WR-CALDESC:Events for Inman Mills Baptist Church
BEGIN:VEVENT
DTSTART;TZID=America/New_York:20150105T173000
DTEND;TZID=America/New_York:20150105T190000
DTSTAMP:20260421T223620
CREATED:20141226T170047Z
LAST-MODIFIED:20141226T170132Z
UID:911-1420479000-1420484400@inmanmillsbaptist.com
SUMMARY:Read Through the Bible Meeting
DESCRIPTION:
URL:http://inmanmillsbaptist.com/event/read-through-the-bible-meeting/
CATEGORIES:Events
END:VEVENT
END:VCALENDAR