BEGIN:VCALENDAR
VERSION:2.0
PRODID:-//Inman Mills Baptist Church - ECPv4.9.3.1//NONSGML v1.0//EN
CALSCALE:GREGORIAN
METHOD:PUBLISH
X-WR-CALNAME:Inman Mills Baptist Church
X-ORIGINAL-URL:http://inmanmillsbaptist.com
X-WR-CALDESC:Events for Inman Mills Baptist Church
BEGIN:VEVENT
DTSTART;TZID=America/New_York:20141113T000000
DTEND;TZID=America/New_York:20141113T140000
DTSTAMP:20260422T020755
CREATED:20141031T193931Z
LAST-MODIFIED:20141031T193931Z
UID:778-1415836800-1415887200@inmanmillsbaptist.com
SUMMARY:Senior Adult Luncheon
DESCRIPTION:  \nAll senior adults are invited to our monthly luncheon in the fellowship hall. Bring a covered dish and join us! \n
URL:http://inmanmillsbaptist.com/event/senior-adult-luncheon-2/
END:VEVENT
END:VCALENDAR