BEGIN:VCALENDAR
VERSION:2.0
PRODID:-//Inman Mills Baptist Church - ECPv4.9.3.1//NONSGML v1.0//EN
CALSCALE:GREGORIAN
METHOD:PUBLISH
X-WR-CALNAME:Inman Mills Baptist Church
X-ORIGINAL-URL:http://inmanmillsbaptist.com
X-WR-CALDESC:Events for Inman Mills Baptist Church
BEGIN:VEVENT
DTSTART;TZID=America/New_York:20140710T120000
DTEND;TZID=America/New_York:20140710T120000
DTSTAMP:20260422T052218
CREATED:20140706T005302Z
LAST-MODIFIED:20140706T005302Z
UID:569-1404993600-1404993600@inmanmillsbaptist.com
SUMMARY:Senior Adult Luncheon
DESCRIPTION:All senior adults are invited to our monthly luncheon in the fellowship hall on Thursday\, July 10\, at 12:00 pm. Everyone is asked to bring a covered dish\, and join us for this time of fellowship. \n
URL:http://inmanmillsbaptist.com/event/senior-adult-luncheon-3/
END:VEVENT
END:VCALENDAR