BEGIN:VCALENDAR
VERSION:2.0
PRODID:-//Inman Mills Baptist Church - ECPv4.9.3.1//NONSGML v1.0//EN
CALSCALE:GREGORIAN
METHOD:PUBLISH
X-WR-CALNAME:Inman Mills Baptist Church
X-ORIGINAL-URL:http://inmanmillsbaptist.com
X-WR-CALDESC:Events for Inman Mills Baptist Church
BEGIN:VEVENT
DTSTART;TZID=America/New_York:20141211T114500
DTEND;TZID=America/New_York:20141211T130000
DTSTAMP:20260422T002921
CREATED:20141203T163530Z
LAST-MODIFIED:20141203T163530Z
UID:827-1418298300-1418302800@inmanmillsbaptist.com
SUMMARY:Senior Adult Luncheon
DESCRIPTION:All seniors are invited to the Inman House of Pizza for their monthly luncheon.  You may bring a dessert if you wish. \n
URL:http://inmanmillsbaptist.com/event/senior-adult-luncheon-4/
CATEGORIES:Events
END:VEVENT
END:VCALENDAR