BEGIN:VCALENDAR
VERSION:2.0
PRODID:-//Inman Mills Baptist Church - ECPv4.9.3.1//NONSGML v1.0//EN
CALSCALE:GREGORIAN
METHOD:PUBLISH
X-WR-CALNAME:Inman Mills Baptist Church
X-ORIGINAL-URL:http://inmanmillsbaptist.com
X-WR-CALDESC:Events for Inman Mills Baptist Church
BEGIN:VEVENT
DTSTART;TZID=America/New_York:20151210T120000
DTEND;TZID=America/New_York:20151210T140000
DTSTAMP:20260419T231634
CREATED:20151204T181739Z
LAST-MODIFIED:20151204T182825Z
UID:1453-1449748800-1449756000@inmanmillsbaptist.com
SUMMARY: Senior Adult Luncheon
DESCRIPTION:All senior adults are invited to our monthly luncheon in the fellowship hall. Everyone is asked to bring a covered dish and join us for this time of fellowship! \n
URL:http://inmanmillsbaptist.com/event/senior-adult-luncheon-5/
CATEGORIES:Events
END:VEVENT
END:VCALENDAR