BEGIN:VCALENDAR
VERSION:2.0
PRODID:-//Inman Mills Baptist Church - ECPv4.9.3.1//NONSGML v1.0//EN
CALSCALE:GREGORIAN
METHOD:PUBLISH
X-WR-CALNAME:Inman Mills Baptist Church
X-ORIGINAL-URL:http://inmanmillsbaptist.com
X-WR-CALDESC:Events for Inman Mills Baptist Church
BEGIN:VEVENT
DTSTART;VALUE=DATE:20160114
DTEND;VALUE=DATE:20160115
DTSTAMP:20260419T180830
CREATED:20151231T175635Z
LAST-MODIFIED:20151231T175635Z
UID:1512-1452729600-1452815999@inmanmillsbaptist.com
SUMMARY:Senior Adult Luncheon
DESCRIPTION:All senior adults are invited to our January luncheon at 12:00 pm. Bring a covered dish and join us! \n
URL:http://inmanmillsbaptist.com/event/senior-adult-luncheon-6/
CATEGORIES:Events
END:VEVENT
END:VCALENDAR