BEGIN:VCALENDAR
VERSION:2.0
PRODID:-//Inman Mills Baptist Church - ECPv4.9.3.1//NONSGML v1.0//EN
CALSCALE:GREGORIAN
METHOD:PUBLISH
X-WR-CALNAME:Inman Mills Baptist Church
X-ORIGINAL-URL:http://inmanmillsbaptist.com
X-WR-CALDESC:Events for Inman Mills Baptist Church
BEGIN:VEVENT
DTSTART;VALUE=DATE:20160414
DTEND;VALUE=DATE:20160415
DTSTAMP:20260421T102209
CREATED:20160401T150057Z
LAST-MODIFIED:20160401T150057Z
UID:1656-1460592000-1460678399@inmanmillsbaptist.com
SUMMARY:Senior Adult Luncheon
DESCRIPTION:Join us for our April luncheon in the fellowship hall at 12:00 pm. Join us for good food and fellowship! \n
URL:http://inmanmillsbaptist.com/event/senior-adult-luncheon-7/
END:VEVENT
END:VCALENDAR