BEGIN:VCALENDAR
VERSION:2.0
PRODID:-//Inman Mills Baptist Church - ECPv4.9.3.1//NONSGML v1.0//EN
CALSCALE:GREGORIAN
METHOD:PUBLISH
X-WR-CALNAME:Inman Mills Baptist Church
X-ORIGINAL-URL:http://inmanmillsbaptist.com
X-WR-CALDESC:Events for Inman Mills Baptist Church
BEGIN:VEVENT
DTSTART;TZID=America/New_York:20141009T120000
DTEND;TZID=America/New_York:20141009T120000
DTSTAMP:20260422T034154
CREATED:20141001T003103Z
LAST-MODIFIED:20141001T003543Z
UID:699-1412856000-1412856000@inmanmillsbaptist.com
SUMMARY:Senior Adults
DESCRIPTION:All senior adults are invited to our monthly luncheon in the fellowship hall. Please bring a covered dish and join us! \n
URL:http://inmanmillsbaptist.com/event/senior-adults-2/
CATEGORIES:Events
END:VEVENT
END:VCALENDAR