BEGIN:VCALENDAR
VERSION:2.0
PRODID:-//Inman Mills Baptist Church - ECPv4.9.3.1//NONSGML v1.0//EN
CALSCALE:GREGORIAN
METHOD:PUBLISH
X-WR-CALNAME:Inman Mills Baptist Church
X-ORIGINAL-URL:http://inmanmillsbaptist.com
X-WR-CALDESC:Events for Inman Mills Baptist Church
BEGIN:VEVENT
DTSTART;TZID=America/New_York:20150102T173000
DTEND;TZID=America/New_York:20150102T190000
DTSTAMP:20260421T224525
CREATED:20141226T164220Z
LAST-MODIFIED:20141226T164423Z
UID:904-1420219800-1420225200@inmanmillsbaptist.com
SUMMARY:Senior Luncheon @ Inman United Methodist Church
DESCRIPTION:All Inman senior adults are invited to meet at the Inman United Methodist Church. Please bring a covered dish for this time of fellowship! \n
URL:http://inmanmillsbaptist.com/event/senior-luncheon-inman-united-methodists/
CATEGORIES:Events
END:VEVENT
END:VCALENDAR