BEGIN:VCALENDAR
VERSION:2.0
PRODID:-//Inman Mills Baptist Church - ECPv4.9.3.1//NONSGML v1.0//EN
CALSCALE:GREGORIAN
METHOD:PUBLISH
X-WR-CALNAME:Inman Mills Baptist Church
X-ORIGINAL-URL:http://inmanmillsbaptist.com
X-WR-CALDESC:Events for Inman Mills Baptist Church
BEGIN:VEVENT
DTSTART;TZID=America/New_York:20150524T110000
DTEND;TZID=America/New_York:20150524T120000
DTSTAMP:20260420T005921
CREATED:20150508T191256Z
LAST-MODIFIED:20150508T191256Z
UID:1157-1432465200-1432468800@inmanmillsbaptist.com
SUMMARY:Student/Graduate Recognition
DESCRIPTION:
URL:http://inmanmillsbaptist.com/event/studentgraduate-recognition-2/
END:VEVENT
END:VCALENDAR