BEGIN:VCALENDAR
VERSION:2.0
PRODID:-//Inman Mills Baptist Church - ECPv4.9.3.1//NONSGML v1.0//EN
CALSCALE:GREGORIAN
METHOD:PUBLISH
X-WR-CALNAME:Inman Mills Baptist Church
X-ORIGINAL-URL:http://inmanmillsbaptist.com
X-WR-CALDESC:Events for Inman Mills Baptist Church
BEGIN:VEVENT
DTSTART;TZID=America/New_York:20140604T193000
DTEND;TZID=America/New_York:20140604T203000
DTSTAMP:20260422T093414
CREATED:20140525T014537Z
LAST-MODIFIED:20140530T172032Z
UID:475-1401910200-1401913800@inmanmillsbaptist.com
SUMMARY:Summer Choir Tour
DESCRIPTION:The Choir will begin its Summer Choir Tour on Wednesday\, June 4 following prayer service to Hospice House in Landrum. The choir would like to take unscented lotion\, unscented wipes\, and Ensure to be given to the patients there and those who are being treated at home. Bring these items and place on the table in the cross hall. Thank you for caring for these families \n
URL:http://inmanmillsbaptist.com/event/summer-choir-tour/
CATEGORIES:Events
END:VEVENT
END:VCALENDAR