BEGIN:VCALENDAR
VERSION:2.0
PRODID:-//Inman Mills Baptist Church - ECPv4.9.3.1//NONSGML v1.0//EN
CALSCALE:GREGORIAN
METHOD:PUBLISH
X-WR-CALNAME:Inman Mills Baptist Church
X-ORIGINAL-URL:http://inmanmillsbaptist.com
X-WR-CALDESC:Events for Inman Mills Baptist Church
BEGIN:VEVENT
DTSTART;TZID=America/New_York:20141121T080000
DTEND;TZID=America/New_York:20141121T170000
DTSTAMP:20260422T020145
CREATED:20141121T221409Z
LAST-MODIFIED:20141121T221409Z
UID:800-1416556800-1416589200@inmanmillsbaptist.com
SUMMARY:"The First Noel" 
DESCRIPTION:Rev. Hames will read to the children. The adult choir will present “The First Noel”. \n
URL:http://inmanmillsbaptist.com/event/the-first-noel/
END:VEVENT
END:VCALENDAR