BEGIN:VCALENDAR
VERSION:2.0
PRODID:-//Inman Mills Baptist Church - ECPv4.9.3.1//NONSGML v1.0//EN
CALSCALE:GREGORIAN
METHOD:PUBLISH
X-WR-CALNAME:Inman Mills Baptist Church
X-ORIGINAL-URL:http://inmanmillsbaptist.com
X-WR-CALDESC:Events for Inman Mills Baptist Church
BEGIN:VEVENT
DTSTART;TZID=America/New_York:20161031T180000
DTEND;TZID=America/New_York:20161031T200000
DTSTAMP:20260422T105128
CREATED:20160930T155357Z
LAST-MODIFIED:20160930T155357Z
UID:1983-1477936800-1477944000@inmanmillsbaptist.com
SUMMARY:TRUNK OR TREAT
DESCRIPTION:
URL:http://inmanmillsbaptist.com/event/trunk-or-treat-2/
END:VEVENT
END:VCALENDAR