BEGIN:VCALENDAR
VERSION:2.0
PRODID:-//Inman Mills Baptist Church - ECPv4.9.3.1//NONSGML v1.0//EN
CALSCALE:GREGORIAN
METHOD:PUBLISH
X-WR-CALNAME:Inman Mills Baptist Church
X-ORIGINAL-URL:http://inmanmillsbaptist.com
X-WR-CALDESC:Events for Inman Mills Baptist Church
BEGIN:VEVENT
DTSTART;TZID=America/New_York:20140611T180000
DTEND;TZID=America/New_York:20140611T203000
DTSTAMP:20260422T094752
CREATED:20140604T141148Z
LAST-MODIFIED:20140604T141148Z
UID:494-1402509600-1402518600@inmanmillsbaptist.com
SUMMARY:VBS
DESCRIPTION:Agency D3:  Discover\, Decide\, Defend \n
URL:http://inmanmillsbaptist.com/event/vbs-4/
CATEGORIES:Events
END:VEVENT
END:VCALENDAR