BEGIN:VCALENDAR
VERSION:2.0
PRODID:-//Inman Mills Baptist Church - ECPv4.9.3.1//NONSGML v1.0//EN
CALSCALE:GREGORIAN
METHOD:PUBLISH
X-WR-CALNAME:Inman Mills Baptist Church
X-ORIGINAL-URL:http://inmanmillsbaptist.com
X-WR-CALDESC:Events for Inman Mills Baptist Church
BEGIN:VEVENT
DTSTART;TZID=America/New_York:20140601T172000
DTEND;TZID=America/New_York:20140601T174500
DTSTAMP:20260422T094828
CREATED:20140525T014142Z
LAST-MODIFIED:20140530T172124Z
UID:474-1401643200-1401644700@inmanmillsbaptist.com
SUMMARY:VBS Meeting
DESCRIPTION:If you have any role in Vacation Bible School this year\, you are asked to be present at the meeting next Sunday\, June 1\, at 5:20 pm in the fellowship hall. Important final details will be shared. Everyone please be present! \n  \n
URL:http://inmanmillsbaptist.com/event/vbs-meeting/
CATEGORIES:Events
END:VEVENT
END:VCALENDAR