BEGIN:VCALENDAR
VERSION:2.0
PRODID:-//Inman Mills Baptist Church - ECPv4.9.3.1//NONSGML v1.0//EN
CALSCALE:GREGORIAN
METHOD:PUBLISH
X-WR-CALNAME:Inman Mills Baptist Church
X-ORIGINAL-URL:http://inmanmillsbaptist.com
X-WR-CALDESC:Events for Inman Mills Baptist Church
BEGIN:VEVENT
DTSTART;TZID=America/New_York:20160121T080000
DTEND;TZID=America/New_York:20160121T170000
DTSTAMP:20260419T161401
CREATED:20160121T193933Z
LAST-MODIFIED:20160121T193933Z
UID:1544-1453363200-1453395600@inmanmillsbaptist.com
SUMMARY:Winter Weather
DESCRIPTION:Just a reminder as we continue this winter season. In the event of a church service/activity change\, you will be notified through the One Call system\, and it will also be listed on WSPA. Many times these decisions are made based on the condition of roadways and the sidewalk/parking areas at church. Your safety is always taken into consideration. Please notify the church office if you are not on the One Call list and would like to be added to receive these messages from the church. \n
URL:http://inmanmillsbaptist.com/event/winter-weather/
END:VEVENT
END:VCALENDAR