BEGIN:VCALENDAR
VERSION:2.0
PRODID:-//Inman Mills Baptist Church - ECPv4.9.3.1//NONSGML v1.0//EN
CALSCALE:GREGORIAN
METHOD:PUBLISH
X-WR-CALNAME:Inman Mills Baptist Church
X-ORIGINAL-URL:http://inmanmillsbaptist.com
X-WR-CALDESC:Events for Inman Mills Baptist Church
BEGIN:VEVENT
DTSTART;VALUE=DATE:20160411
DTEND;VALUE=DATE:20160412
DTSTAMP:20260419T130247
CREATED:20160401T145942Z
LAST-MODIFIED:20160401T145942Z
UID:1655-1460332800-1460419199@inmanmillsbaptist.com
SUMMARY:WMU Georgia Belles
DESCRIPTION:Join us for our WMU Georgia Belles meeting in the fellowship hall at 6:30 pm. \n
URL:http://inmanmillsbaptist.com/event/wmu-georgia-belles/
END:VEVENT
END:VCALENDAR