BEGIN:VCALENDAR
VERSION:2.0
PRODID:-//Inman Mills Baptist Church - ECPv4.9.3.1//NONSGML v1.0//EN
CALSCALE:GREGORIAN
METHOD:PUBLISH
X-WR-CALNAME:Inman Mills Baptist Church
X-ORIGINAL-URL:http://inmanmillsbaptist.com
X-WR-CALDESC:Events for Inman Mills Baptist Church
BEGIN:VEVENT
DTSTART;VALUE=DATE:20150105
DTEND;VALUE=DATE:20150106
DTSTAMP:20260421T223303
CREATED:20141226T163639Z
LAST-MODIFIED:20141226T163639Z
UID:901-1420416000-1420502399@inmanmillsbaptist.com
SUMMARY:WMU - No Meeting
DESCRIPTION:
URL:http://inmanmillsbaptist.com/event/wmu-no-meeting/
CATEGORIES:Events
END:VEVENT
END:VCALENDAR