BEGIN:VCALENDAR
VERSION:2.0
PRODID:-//Inman Mills Baptist Church - ECPv4.9.3.1//NONSGML v1.0//EN
CALSCALE:GREGORIAN
METHOD:PUBLISH
X-WR-CALNAME:Inman Mills Baptist Church
X-ORIGINAL-URL:http://inmanmillsbaptist.com
X-WR-CALDESC:Events for Inman Mills Baptist Church
BEGIN:VEVENT
DTSTART;VALUE=DATE:20151108
DTEND;VALUE=DATE:20151109
DTSTAMP:20260419T212724
CREATED:20150819T162208Z
LAST-MODIFIED:20150819T162208Z
UID:1310-1446940800-1447027199@inmanmillsbaptist.com
SUMMARY:Y 4 J Fundraiser
DESCRIPTION:The Y 4 J will have a Soup After Service Fundraiser on Sunday\, November 8.  All proceeds will benefit the youth group. \n
URL:http://inmanmillsbaptist.com/event/y-4-j-fundraiser/
CATEGORIES:Events
END:VEVENT
END:VCALENDAR